Workbook

Sheet 工程裝總
A1: 工程名稱:全國農業金庫台中分行行舍室內裝修工程
A2: 工程地點:臺中市南屯路二段388號、390號、392號 | O2: 小計
A3: 項次 | B3: 工 程 項 目 | C3: 單位 | D3: 數 量 | E3: 單 價 | F3: 複 價 | G3: 備 註 | O3: =M3+N3 -> 0
A4: 壹 | B4: 分行室內裝修工程 | C4: 式 | D4: 1
A5: 貳 | B5: 配合建築物用途變更項目 (建築物用途變更為G-1 金融業) | C5: 式 | D5: 1
B6: 總計(壹~貳)
A9: 壹 | B9: 分行室內裝修工程
A10: 甲 | B10: 裝修工程 | O10: =M10+N10 -> 0
A11: 一 | B11: 拆除工程 | C11: 式 | D11: 1 | O11: =SUM(O3:O10) -> 0
A12: 二 | B12: 天花板工程 | C12: 式 | D12: 1
A13: 三 | B13: 地坪工程 | C13: 式 | D13: 1
A14: 四 | B14: 牆面及隔間工程 | C14: 式 | D14: 1
A15: 伍 | B15: 門窗工程 | C15: 式 | D15: 1
A16: 六 | B16: 橱櫃工程 | C16: 式 | D16: 1
A17: 七 | B17: 雜項工程 | C17: 式 | D17: 1
B18: 小計(一~七項)
A19: 乙 | B19: 機電工程
A20: 一 | B20: 電氣設備工程 | C20: 式 | D20: 1
A21: 二 | B21: 電信設備工程 | C21: 式 | D21: 1
A22: 三 | B22: 資訊設備工程 | C22: 式 | D22: 1
A23: 四 | B23: 弱電設備工程 | C23: 式 | D23: 1
A24: 伍 | B24: 給排水設備工程 | C24: 式 | D24: 1
A25: 六 | B25: 空調設備工程 | C25: 式 | D25: 1
A26: 七 | B26: 消防設備工程 | C26: 式 | D26: 1
B27: 小計(一~七項)
B29: 合計(甲+乙)
A30: 丙 | B30: 職業安全衛生管理費(含環保費)1% | C30: 式 | D30: 1 | G30: 詳單價分析
A31: 丁 | B31: 品管費1%(含材料檢(測)試驗費、各階段材料/設備檢驗、品質計畫書及工程契約等規定) | C31: 式 | D31: 1
A32: 戊 | B32: 管理及利潤6%(含營造綜合保險費、趕工費) | C32: 式 | D32: 1
B33: 合計(甲~戊項)
A34: 己 | B34: 加值稅5% | C34: 式 | D34: 1
B35: 總計 (甲~已項)
A38: 貳 | B38: 配合建築物用途變更項目
A39: 甲 | B39: 裝修工程 | C39: 式 | D39: 1
A40: 乙 | B40: 機電工程 | C40: 式 | D40: 1
B41: 合計(甲+乙)
A42: 丙 | B42: 職業安全衛生管理費(含環保費)1% | C42: 式 | D42: 1
A43: 丁 | B43: 品管費1%(含材料檢(測)試驗費、各階段材料/設備檢驗、品質計畫書及工程契約等規定) | C43: 式 | D43: 1
A44: 戊 | B44: 管理及利潤6%(含營造綜合保險費、趕工費) | C44: 式 | D44: 1
B45: 合計(甲~戊項)
A46: 己 | B46: 加值稅5% | C46: 式 | D46: 1
B47: 總計 (甲~已項)

Sheet 1拆除
A1: 工程名稱:全國農業金庫台中分行行舍室內裝修工程
A2: 工程地點:臺中市南屯路二段388號、390號、392號
A3: 項次 | B3: 工 程 項 目 | C3: 單位 | D3: 數 量 | E3: 單 價 | F3: 複 價 | G3: 備 註
A4: 壹 | B4: 分行室內裝修工程
A5: 一 | B5: 拆除工程
A6: 1 | B6: 原有門(含自動門、玻璃門扇、木門、金屬門…等)拆除 | C6: 樘 | D6: 3 | G6: 含一樓入口捲門移裝
A7: =1+A6 -> 2 | B7: 原有1樓捲門拆除與移裝(配合既有金屬包板拆除與復原) | C7: 樘 | D7: 3 | G7: 含一樓入口捲門移裝
A8: =1+A7 -> 3 | B8: 原店鋪6.7原有電梯處(RC牆)切割及打石拆除 | C8: m² | D8: 124 | G8: 1~2樓(含夾層)
A9: =1+A8 -> 4 | B9: 店鋪7原有樓梯踏階、平台及扶手拆除(夾層到2F) | C9: m² | D9: 9 | G9: 1~2樓(含夾層)
A10: =1+A9 -> 5 | B10: 原有纖維水泥板分間牆拆除 | C10: m² | D10: 168 | G10: 1~2樓(含夾層)
A11: =1+A10 -> 6 | B11: 配合無障礙樓梯施作,既有地坪面材局部拆除 | C11: 式 | D11: 1 | G11: 1~2樓(含夾層)
A12: =1+A11 -> 7 | B12: 原有廁所拆除(牆面磁磚) | C12: m² | D12: 63 | G12: 含粉刷層剃除
A13: =1+A12 -> 8 | B13: 原有廁所拆除(地磚) | C13: m² | D13: 16 | G13: 含粉刷層剃除
A14: =1+A13 -> 9 | B14: 原有廁所拆除(衛生設備及水電管(路)線) | C14: 間 | D14: 5 | G14: 含廢棄吊架、五金
A15: =1+A14 -> 10 | B15: 地坪及牆面及其他配合打除 | C15: 式 | D15: 1 | G15: 1~2樓(含夾層)
A16: =1+A15 -> 11 | B16: 施工區域與公共界面(含天花板、牆面及地板)配合工程施作拆除及復原(功能正常使用) | C16: 式 | D16: 1 | G16: 1~2樓(含夾層)
A17: =1+A16 -> 12 | B17: 配合現場(含廢除)管路及設備等零星拆除及切割 | C17: 式 | D17: 1 | G17: 1~2樓(含夾層)
A18: =1+A17 -> 13 | B18: 雜項配合拆除(衛生器具、廢棄線(管)路及配合工程指示拆除) | C18: 式 | D18: 1 | G18: 1~2樓(含夾層)
... A20: =1+A19 -> 15 | B20: 廢棄物、垃圾等清理運棄 | C20: 式 | D20: 1 | G20: 合法運棄證明
B22: 小計

Sheet 2天花板
A1: 工程名稱:全國農業金庫台中分行行舍室內裝修工程
A2: 工程地點:臺中市南屯路二段388號、390號、392號
A3: 項次 | B3: 工 程 項 目 | C3: 單位 | D3: 數 量 | E3: 單 價 | F3: 複 價 | G3: 備 註
A4: 二 | B4: =工程裝總!B12 -> 天花板工程
A5: 1 | B5: C-0：原照樓板天花_清潔,板材汙損更新 | C5: 式 | D5: 1 | G5: 1~2樓
A6: =1+A5 -> 2 | B6: C-1：新作乳膠漆(綠建材) | C6: ㎡ | D6: 92 | G6: 防霉抗菌乳膠漆送樣,詳單價分析
A7: =1+A6 -> 3 | B7: C-2：新作明架耐震礦纖天花板(2"*2"15mm,耐燃一級.綠建材) | C7: ㎡ | D7: 118 | G7: 送樣,詳單價分析
A8: =1+A7 -> 4 | B8: C-3：新作暗架抗震矽酸鈣天花板(TH:6mm,耐燃一級,綠建材)+防霉抗菌乳膠漆(綠建材) | C8: ㎡ | D8: 416 | G8: 吊桿間距600~900mm,詳單價分析
A9: =1+A8 -> 5 | B9: C-4：新作半明架耐震礦纖天花板(2"*2"15mm,耐燃一級.綠建材) | C9: ㎡ | D9: 68 | G9: 詳單價分析
A10: =1+A9 -> 6 | B10: 新作窗簾盒矽酸鈣板(耐燃一級,綠建材)+補土刷漆(綠建材) | C10: M | D10: 55
A11: =1+A10 -> 7 | B11: 暗架階梯造型及工料(含補土刷漆)/(耐燃一級,綠建材) | C11: M | D11: 262
A12: =1+A11 -> 8 | B12: 間接照明收邊及工料(含補土刷漆)/(耐燃一級,綠建材) | C12: M | D12: 123
A13: =1+A12 -> 9 | B13: 1樓(夾層/營業櫃台)天花板不鏽鋼骨架(含固定、防鏽處理) | C13: 式 | D13: 1 | G13: 結構鋼，鋼材專業塗裝，鍍鋅加工
A14: =1+A13 -> 10 | B14: 施工中其他零星配合工料(含空調.燈具開孔) | C14: 式 | D14: 1
B16: 小計

Sheet 3地坪
A1: 工程名稱:全國農業金庫台中分行行舍室內裝修工程
A2: 工程地點:臺中市南屯路二段388號、390號、392號
A3: 項次 | B3: 工 程 項 目 | C3: 單位 | D3: 數 量 | E3: 單 價 | F3: 複 價 | G3: 備 註
A4: 三 | B4: =工程裝總!B13 -> 地坪工程
A5: 1 | B5: G-0：原有地坪(既有石材、廁所面磚、塑膠地磚、木地板及地毯等)污漬清潔、破損(孔洞砂漿填塞)修復 | C5: 式 | D5: 1 | G5: 1~2樓,1樓室外地坪清洗
A6: =1+A5 -> 2 | B6: G-A:配合隔間拆除後地坪處修補(地坪樣式/顏色同既有) | C6: 式 | D6: 1
A7: =1+A6 -> 3 | B7: G-1：新作陶瓷面磚TH6mm以上(90*90以上/120*240)(霧面)(止滑)(含分隔)/施工面打毛處理, | C7: ㎡ | D7: 27 | G7: 止滑地磚併花及分隔/送樣,詳單價分析
A8: =1+A7 -> 4 | B8: G-2：新作500型高架地板(HPL:±1.0mm以上) (H>10cm/接地銅線) | C8: ㎡ | D8: 73 | G8: 詳單價分析
A9: =1+A8 -> 5 | B9: G-3：新作方塊地毯(綠建材/防焰一級)+底板 | C9: ㎡ | D9: 59 | G9: 黏著劑:綠建材/地毯送樣
A10: =1+A9 -> 6 | B10: G-4：新作陶瓷面磚(止滑磚±45cm*±45cm以上)+(防水彈性塗料(含不織布)+防水粉刷) | C10: ㎡ | D10: 8 | G10: (符合CNS)/送樣/試水報告(24HR)/責任施工
A11: =1+A10 -> 7 | B11: G-5：新作Th2.0mm以上塑膠地磚(木紋系列)(接著劑:綠建材) | C11: ㎡ | D11: 11 | G11: 詳單價分析
A12: =1+A11 -> 8 | B12: ㄇ字型不銹鋼門檻壓條收邊 | C12: M | D12: 6 | G12: 異材質交接處
A13: =1+A12 -> 9 | B13: 石材(門檻)收邊 | C13: M | D13: 7
A14: =1+A13 -> 10 | B14: 高架地板鋼架骨架斜坡面鋪捲材橡膠地毯 | C14: ㎡ | D14: 2
A15: =1+A14 -> 11 | B15: 原有廁所拆除後地坪新作水泥粉刷 | C15: ㎡ | D15: 18
A16: =1+A15 -> 12 | B16: 打除後地坪及其他配合拆除與整平、防水層處理 | C16: 式 | D16: 1
A17: =1+A16 -> 13 | B17: 既有地坪機械切割及防水(配和線槽埋設後砂漿固定) | C17: 式 | D17: 1 | G17: 配合機電線槽施作
A18: =1+A17 -> 14 | B18: 結構補強(配合金庫室設置及發電機安裝)責任施工 | C18: 式 | D18: 1 | G18: EPOXY界面接著劑、鋼料加工、吊裝及搬運
A19: =1+A18 -> 15 | B19: (承上項)結構技師簽證 | C19: 式 | D19: 1
B20: 小計

Sheet 4牆面及隔間
A1: 工程名稱:全國農業金庫台中分行行舍室內裝修工程
A2: 工程地點:臺中市南屯路二段388號、390號、392號
A3: 項次 | B3: 工 程 項 目 | C3: 單位 | D3: 數 量 | E3: 單 價 | F3: 複 價 | G3: 備 註
A4: 四 | B4: =工程裝總!B14 -> 牆面及隔間工程
A5: 1 | B5: W0：原照隔間(既有柱、牆面、廁所面磚汙損修補及孔洞砂漿填塞修復) | C5: 式 | D5: 1
A6: =1+A5 -> 2 | B6: W1A:新作纖維水泥板隔間(綠建材,防火時效一小時) | C6: ㎡ | D6: 29 | G6: 骨架間距<40cm；(1樓無障礙廁所),詳單價分析
A7: =1+A6 -> 3 | B7: W2A:雙面±9mm矽酸鈣板分間牆(綠建材,防火時效一小時) 牆厚:12cm | C7: ㎡ | D7: 334 | G7: 骨架間距<40cm；詳單價分析
A8: =1+A7 -> 4 | B8: W2B:雙面±9mm矽酸鈣板分間牆(綠建材,防火時效一小時) 牆厚:17cm | C8: ㎡ | D8: 71 | G8: 詳單價分析
A9: =1+A8 -> 5 | B9: W3:單面±9mm矽酸鈣板分間牆(綠建材,耐燃一級) 牆厚:7.5cm | C9: ㎡ | D9: 86 | G9: 骨架間距<40cm；詳單價分析
A10: =1+A9 -> 6 | B10: W4:(1樓)組合式金庫分間牆(責任施工)(不燃材料)+面漆(綠建材) | C10: ㎡ | D10: 13 | G10: 含吊(組)裝、搬運
A11: =1+A10 -> 7 | B11: 現有金庫組合室牆板搬移至分行新址並重新安裝固定 | C11: ㎡ | D11: 45 | G11: 含吊(組)裝、搬運
A12: =1+A11 -> 8 | B12: 金庫室上方加強H型鋼施工 | C12: 式 | D12: 1 | G12: 含吊(組)裝、搬運
A13: =1+A12 -> 9 | B13: W5:(1樓)大出納防爆玻璃(不燃材料)+毛絲面不銹鋼板隔間(不燃材料) | C13: 式 | D13: 1 | G13: 含測試報告;詳單價分析
A14: =1+A13 -> 10 | B14: W6:新作防霉抗菌乳膠漆(綠建材,含補(批)土修補 | C14: ㎡ | D14: 1915
A15: =1+A14 -> 11 | B15: W7:新作天然木化妝合板(防焰一級/綠建材)+被襯矽酸鈣板(含骨架)(耐燃一級,綠建材) | C15: ㎡ | D15: 128 | G15: 含金屬收邊條、(1樓大廳、2樓走道(局部))
A16: =1+A15 -> 12 | B16: W8:新作廁所 30*60cm面磚 (防水彈性塗料(含不織布)+防水粉刷:H>200cm) | C16: ㎡ | D16: 38 | G16: (符合CNS)/送樣/試水報告(24HR)/詳單價分析/責任施工
A17: =1+A16 -> 13 | B17: 入口上方捲箱封版面貼金屬造型美耐板(防焰一級/綠建材) | C17: ㎡ | D17: 41 | G17: 含金屬收邊條
A18: =1+A17 -> 14 | B18: 捲門封版:單面±9mm矽酸鈣板牆(綠建材,耐燃一級) +金屬骨架 | C18: ㎡ | D18: 41 | G18: 預留活動檢修門(含鎖)/收邊條
A19: =1+A18 -> 15 | B19: 雙面金屬烤漆封版(含骨架@20cm) | C19: ㎡ | D19: 3 | G19: 1樓既有落地窗與梁底開口
A20: =1+A19 -> 16 | B20: 塑合踢腳 | C20: M | D20: 241
A21: =1+A20 -> 17 | B21: ㄇ字鏡面不鏽鋼踢腳(H:12~10cm) | C21: M | D21: 28 | G21: 1樓大廳、洽談區、授信科、1樓主牆
A22: =1+A21 -> 18 | B22: 1樓CIS主牆面:壓克力烤漆字體(中英對照)及LOGO(依農金CIS) | C22: 式 | D22: 1 | G22: 詳單價分析
A23: =1+A22 -> 19 | B23: 廁所強化美耐板隔間(熱固性樹脂板隔間含門H=240cm/門框膠條/門鎖.掛衣勾等五金齊) | C23: ㎡ | D23: 4 | G23: 外觀木紋系列,詳單價分析
A24: =1+A23 -> 20 | B24: 打除後牆面其他配合拆除與整平、防水層處理 | C24: 式 | D24: 1
A25: =1+A24 -> 21 | B25: 原有廁所拆除後牆面新作水泥粉刷、防水層處理 | C25: ㎡ | D25: 63
A26: =1+A25 -> 22 | B26: 既有烤漆造型牆配合補摺機、差勤機(含固定件安裝)施工拆除及新作鋁板烤漆(含固定架安裝、(耐候型)矽利康等) | C26: 處 | D26: 2 | G26: 含新作烤漆鋁板(顏色樣式同現場既有)及造型封邊
A27: =1+A26 -> 23 | B27: 既有烤漆造型牆配合入口捲門施工(局部)新作鋁板烤漆(含固定安裝、矽利康等) | C27: 樘 | D27: 3 | G27: 含烤漆鋁板復規與新作及造型封邊
A28: =1+A27 -> 24 | B28: 配合管路及設備新增切割及開口 | C28: 式 | D28: 1 | G28: 機械切割
A29: =1+A28 -> 25 | B29: 鋁槽燈具(含蓋板)+軟燈條+變壓器 | C29: 式 | D29: 1
B31: 小計

Sheet 5門窗
A1: 工程名稱:全國農業金庫台中分行行舍室內裝修工程
A2: 工程地點:臺中市南屯路二段388號、390號、392號
A3: 項次 | B3: 工 程 項 目 | C3: 單位 | D3: 數 量 | E3: 單 價 | F3: 複 價 | G3: 備 註
A4: 伍 | B4: =工程裝總!B15 -> 門窗工程
A5: 1 | B5: D原、W原、DW原等既有門、窗保養及清潔 | C5: 式 | D5: 1
A6: =1+A5 -> 2 | B6: D1 單開烤漆鋼板防火門 (F60A)：±100*±220 cm | C6: 樘 | D6: 4 | G6: 詳單價分析;含測試報告及出廠證明(完工後)
A7: =1+A6 -> 3 | B7: D1a 單開烤漆鋼板防火門 (F60A)：±100*±220 cm | C7: 樘 | D7: 2 | G7: 含測試報告及出廠證明(完工後)
A8: =1+A7 -> 4 | B8: D2 單開烤漆鋼板門：±100*±220 cm | C8: 樘 | D8: 3
A9: =1+A8 -> 5 | B9: D2a 單開烤漆鋼板門：±95*±220 cm | C9: 樘 | D9: 1
A10: =1+A9 -> 6 | B10: D3 木門(含百頁)：±80*±220 cm | C10: 樘 | D10: 3 | G10: 具耐燃效能(美耐板防焰)
A11: =1+A10 -> 7 | B11: D3b 防火木門 (F60A)：±90*±220 cm | C11: 樘 | D11: 1 | G11: 含測試報告及出廠證明(完工後)
A12: =1+A11 -> 8 | B12: D3a 木門(含百頁)：±75*±220 cm | C12: 樘 | D12: 1 | G12: 具耐燃效能(美耐板防焰)
A13: =1+A12 -> 9 | B13: D4 木門(含視窗+百頁)：±90*±220 cm | C13: 樘 | D13: 1 | G13: 具耐燃效能(美耐板防焰)
A14: =1+A13 -> 10 | B14: D5 營業櫃檯木門：±100*±125cm | C14: 樘 | D14: 1 | G14: 詳單價分析
A15: =1+A14 -> 11 | B15: D6 木門(含強化玻璃視窗)：±100*±220 cm | C15: 樘 | D15: 1 | G15: 1樓電腦機房,具耐燃效能(美耐板防焰)
A16: =1+A15 -> 12 | B16: D7 毛絲面不銹鋼防彈玻璃門：±110*±260cm(高度依現場) | C16: 樘 | D16: 1 | G16: 詳單價分析;含測試報告及出廠證明(完工後)
A17: =1+A16 -> 13 | B17: D8 木(百頁)拉門：±176*±220 cm | C17: 樘 | D17: 1 | G17: 含防撞門檔,具耐燃效能(美耐板防焰)
A18: =1+A17 -> 14 | B18: D9 單開烤漆鋼板防火門(F60A)：±100*±220 cm | C18: 樘 | D18: 1 | G18: 含測試報告及出廠證明(完工後)
A19: =1+A18 -> 15 | B19: D10 木門：±100*±220 cm | C19: 樘 | D19: 1 | G19: 角度:180,具耐燃效能(美耐板防焰)
A20: =1+A19 -> 16 | B20: D11 木門(含百頁)：±100*±220 cm | C20: 樘 | D20: 3 | G20: 具耐燃效能(美耐板防焰)
A21: =1+A20 -> 17 | B21: D12 無障礙廁所橫拉門(安裝尺寸及位置符合無障礙規範)：±100*±220 cm | C21: 樘 | D21: 1 | G21: 五金齊全/含防撞門檔
A22: =1+A21 -> 18 | B22: GD1金庫門、GD2 金庫副門:搬運至分行新址 (含搬運、固定安裝) (責任施工) | C22: 式 | D22: 1
A23: =1+A22 -> 19 | B23: GD1金庫門、GD2 金庫副門:保養、上油、維護 (含搬運、固定安裝) (責任施工) | C23: 式 | D23: 1
A24: =1+A23 -> 20 | B24: GD1金庫門、GD2 金庫副門:定時鎖組更新(168小時) | C24: 組 | D24: 2
A25: =1+A24 -> 21 | B25: GD1金庫門、GD2 金庫副門:安裝後配合現場封版與收邊 (含搬運、固定安裝) (責任施工) | C25: 式 | D25: 1
A26: =1+A25 -> 22 | B26: 原有金庫室防盜組合牆重新整修研磨處理(責任施工) | C26: 式 | D26: 1
A27: =1+A26 -> 23 | B27: 新購金庫專用防盜通風口(含搬運、固定安裝) (責任施工) | C27: 組 | D27: 2
A28: =1+A27 -> 24 | B28: DW1：±280*±220 cm 落地金屬框+5+5mm超白玻璃 | C28: 樘 | D28: 1 | G28: 電控膜夾內/含電源開關等管線路等另料
A29: =1+A28 -> 25 | B29: (承上項)電控膜(含電源)：±270*±210 cm | C29: 才 | D29: 62
A30: =1+A29 -> 26 | B30: W1 ：±100*±220 cm 烤漆金屬(細)框+強化玻璃(噴砂不沾手) | C30: 樘 | D30: 1
A31: =1+A30 -> 27 | B31: 新作SDa：±166*±(310+155) cm (責任施工/含骨架固定) | C31: 樘 | D31: 1 | G31: 出廠證明(完工後),詳單價分析
A32: =1+A31 -> 28 | B32: 新作SDb：±166*±(320+155) cm (責任施工/含骨架固定) | C32: 樘 | D32: 2 | G32: 出廠證明(完工後)
A33: =1+A32 -> 29 | B33: 開關箱檢修(暗)門(含鉸鍊、拍門器(按壓拍拍手)等五金齊) | C33: 式 | D33: 1 | G33: 配合設備設置及調整
A34: =1+A33 -> 30 | B34: 繪製門窗施工製造圖說、測試報告 | C34: 式 | D34: 1
A35: =1+A34 -> 31 | B35: 陰極電鎖+壓扣開關(含電源及控制管線路等工資另料)/依分行需求設置 | C35: 樘 | D35: 2 | G35: D1a*1樘(理鈔區)+D5*1樘(營業櫃檯)
A36: =1+A35 -> 32 | B36: 2樓空調/發電機室既有門玻璃內側增設不銹鋼烤漆百葉(門框保留) | C36: 樘 | D36: 1 | G36: (附防蟲網)
A37: =1+A36 -> 33 | B37: 2樓茶水間金屬烤漆門框：±100*±220 cm | C37: 樘 | D37: 1
A38: =1+A37 -> 34 | B38: 1樓新作防火捲門2側_10*10cm鏡面不銹管立料(H=3.3M) | C38: 支 | D38: 8 | G38: 含加工及固定
A39: =1+A38 -> 35 | B39: 2樓空調機房隔間金屬烤漆方管(H=4.05M) | C39: 式 | D39: 1 | G39: 含加工及固定
B41: 小計

Sheet 6儲櫃
A1: 工程名稱:全國農業金庫台中分行行舍室內裝修工程
A2: 工程地點:臺中市南屯路二段388號、390號、392號
A3: 項次 | B3: 工 程 項 目 | C3: 單位 | D3: 數 量 | E3: 單 價 | F3: 複 價 | G3: 備 註
A4: 六 | B4: =工程裝總!B16 -> 橱櫃工程 | G4: 木心板:綠建材/低甲醛
A5: 1 | B5: 營業櫃台(含大出納)(含檯面、堡壘玻璃及石材檯面)： (1222+142)*110*110 cm | C5: 座 | D5: 1 | G5: 含鋁槽燈具(含蓋板)+軟燈條+變壓器
A6: =1+A5 -> 2 | B6: 寫字台(含檯面石材)： 120*65*120 cm | C6: 座 | D6: 1 | G6: 詳單價分析;含不銹鋼垃圾、不銹鋼投遞口各2組
A7: =1+A6 -> 3 | B7: CLH01: 100*55*240cm | C7: 座 | D7: 1 | G7: 監控機櫃/配合機電留設開口/百頁門扇+防火漆
A8: =1+A7 -> 4 | B8: CLH02: 130*(45、60)*240cm | C8: 座 | D8: 1 | G8: 活動層板(含軌道)/配合機電留設開口/百頁門扇+防火漆
A9: =1+A8 -> 5 | B9: CLH03: 110*25*240cm | C9: 座 | D9: 1
A10: =1+A9 -> 6 | B10: CLH04: 110*(40、55)*240cm | C10: 座 | D10: 1 | G10: 百頁門扇+防火漆
A11: =1+A10 -> 7 | B11: CLH05: 108*66*240cm | C11: 座 | D11: 1 | G11: 配合機電留設開口
A12: =1+A11 -> 8 | B12: CLH06: 110*66*240cm | C12: 座 | D12: 1 | G12: 配合機電留設開口
A13: =1+A12 -> 9 | B13: CLH07: 97*(45、55)*240cm(含烤漆玻璃) | C13: 座 | D13: 1 | G13: 1樓茶水間
A14: =1+A13 -> 10 | B14: CLH08: 400*60*240cm(含薄板磁磚(大理石紋)/鋁槽燈具(含蓋板)+軟燈條+變壓器/衣櫃感應燈 ) | C14: 座 | D14: 1 | G14: 2樓經理室(含衣櫃/不鏽鋼吊衣桿)
A15: =1+A14 -> 11 | B15: CLH09: 400*45*240cm | C15: 座 | D15: 1
A16: =1+A15 -> 12 | B16: CLH10: 203*33*240cm | C16: 座 | D16: 1 | G16: 百頁門扇+防火漆
A17: =1+A16 -> 13 | B17: CLH11: 320*(45、60)*240cm(含烤漆玻璃) | C17: 座 | D17: 1 | G17: 2樓茶水間
A18: =1+A17 -> 14 | B18: 不鏽鋼水槽(含矽利康收邊) | C18: 組 | D18: 2 | G18: 1樓、2樓茶水間
A19: =1+A18 -> 15 | B19: 人造石檯面(立面H>3cm,含加工/磨邊) | C19: cm | D19: 1180 | G19: 含茶水間含止水敦、廁所
B21: 小計

Sheet 7雜項
A1: 工程名稱:全國農業金庫台中分行行舍室內裝修工程
A2: 工程地點:臺中市南屯路二段388號、390號、392號
A3: 項次 | B3: 工 程 項 目 | C3: 單位 | D3: 數 量 | E3: 單 價 | F3: 複 價 | G3: 備 註
A4: 七 | B4: =工程裝總!B17 -> 雜項工程
A5: 1 | B5: 既有直式燈箱廣告招牌(依農金CIS手冊),軟性抗颱面材：±65*±185 cm | C5: 座 | D5: 3
A6: =1+A5 -> 2 | B6: 既有橫式燈箱廣告招牌(依農金CIS手冊),軟性抗颱面材：±350*±320 cm | C6: 座 | D6: 3 | G6: 含吊車
A7: =1+A6 -> 3 | B7: 既有燈箱內節能燈具更新(含定時設置) | C7: 組 | D7: 6 | G7: 含工資及管線另料
A8: =1+A7 -> 4 | B8: 卡典西德貼紙(依農金CIS手冊)及霧面貼紙(含營業櫃檯編號(壓克力材質)、一樓落地窗、自動門及二樓等) | C8: 式 | D8: 1 | G8: 1~2樓(含夾層)，含色帶、金字及LOGO
A9: =1+A8 -> 5 | B9: 一~二樓既有外牆玻璃面貼卡點西德 | C9: 式 | D9: 1 | G9: 1~2樓(含夾層)，含色帶、金字及LOGO
A10: =1+A9 -> 6 | B10: 放樣 | C10: 式 | D10: 1 | G10: 1~2樓(含夾層)
A11: =1+A10 -> 7 | B11: 室內地坪(鋪設PP保護板、夾板和膠帶).牆面施工中.後之保護 | C11: 式 | D11: 1 | G11: 1~2樓(含夾層)
A12: =1+A11 -> 8 | B12: 室內地坪、牆面面磚:配合廁所(含防水)/現場既有之設備移位施工後之修補復原 | C12: 式 | D12: 1 | G12: 1~2樓(含夾層)
A13: =1+A12 -> 9 | B13: 假設工程(含施工架、安全圍籬及高空作業及施工架(組裝/拆移)安全設施等) | C13: 式 | D13: 1
A14: =1+A13 -> 10 | B14: 各式(施工區內)原有管路暫時遷移,吊高固定完工後復原及重新固定 | C14: 式 | D14: 1
A15: =1+A14 -> 11 | B15: 配合全室開關箱、門扇及水電外露管路等封單矽酸鈣板隔間填縫及面刷漆工料 | C15: 式 | D15: 1 | G15: 含既有牆面新設管線(路)1~2樓(含夾層)
A16: =1+A15 -> 12 | B16: 切割及開口(含隔間管路穿牆處)修補(含防火填塞部分)(含工料)(防火時效一小時) | C16: 式 | D16: 1 | G16: 配合管路，1~2樓(含夾層)
A17: =1+A16 -> 13 | B17: 設備拆除與新增之地面、壁面復原工程 | C17: 式 | D17: 1 | G17: 含水電管線路及防水層、面(地)復原
A18: =1+A17 -> 14 | B18: 完工清潔打臘 | C18: 式 | D18: 1 | G18: 1~2樓(含夾層)
A19: =1+A18 -> 15 | B19: 繪製工程竣工圖(含結算書修改及相關簽證、材料設備之測試報告、型錄及相關證明文件等資料彙編成冊及樣品版製作)(文件A4尺寸,樣品板A2尺寸各一式三份) | C19: 式 | D19: 1
A20: =1+A19 -> 16 | B20: 竣工報告書(應含工程概述、施工日報表、會議紀錄、各階段施工照片、各階段測試報告(試壓、防水、電阻等)、各項材料與設備出廠證明(含數量)、保固書、各項材料與設備材料設備檢驗表、各階段工程自主檢表、竣工圖及結算書等)一式三份 | C20: 式 | D20: 1 | G20: 詳單價分析
A21: =1+A20 -> 17 | B21: 建築物用途變更併(建築竣工)室內裝修竣工許可核准等相關申請作業費用與取得執照(合格證)(含文件、圖說修改) | C21: 式 | D21: 1
A22: =1+A21 -> 18 | B22: 零星及其他雜項配合 | C22: 式 | D22: 1
B23: 小計

Sheet 9甲勞安
A1: 工程名稱:全國農業金庫台中分行行舍室內裝修工程
A2: 工程地點:臺中市南屯路二段388號、390號、392號
A3: 項次 | B3: 工 程 項 目 | C3: 單位 | D3: 數 量 | E3: 單 價 | F3: 複 價 | G3: 備 註
A4: =工程裝總!A30 -> 丙 | B4: =工程裝總!B30 -> 職業安全衛生管理費(含環保費)1% | H4: =工程裝總!F30 -> 0
A5: 1 | B5: 金屬製工程告示牌 | C5: 式 | D5: 1
A6: 2 | B6: 勞工安全衛生，一般器材、安全帽 | C6: 式 | D6: 1
A7: 3 | B7: 勞工安全衛生,一般器材,滅火器 | C7: 式 | D7: 1
A8: 4 | B8: 勞工安全衛生，一般器材、安全帶(繩索) | C8: 式 | D8: 1
A9: 5 | B9: 臨時施工照明(含漏電斷路器及臨時電盤設置) | C9: 式 | D9: 1
A10: 6 | B10: 勞工宣傳標語及公佈欄 | C10: 式 | D10: 1
A11: 7 | B11: 活動施工架(配合高空作業用)及安全防護 | C11: 式 | D11: 1 | G11: 含租金
A12: 8 | B12: 施工警告燈號、施工標誌、標語 | C12: 式 | D12: 1
A13: 9 | B13: 交通錐及護桿(設備進場交通管制使用)及交通維護費 | C13: 式 | D13: 1
A14: 10 | B14: 施工圍籬及帆布(含拆除保護用) | C14: 式 | D14: 1
A15: 11 | B15: 施工中後階段進場設備保護及管控 | C15: 式 | D15: 1
A16: 12 | B16: 醫護箱 | C16: 式 | D16: 1
A17: 13 | B17: 手套 | C17: 式 | D17: 1
A18: 14 | B18: 工地消毒及垃圾運棄 | C18: 式 | D18: 1
A19: 15 | B19: 搬運雜項 | C19: 式 | D19: 1
A20: 16 | B20: 其他雜項配合 | C20: 式 | D20: 1
B22: 合 計

Sheet 單價
A1: 工程名稱:全國農業金庫台中分行行舍室內裝修工程
A2: 工程地點:臺中市南屯路二段388號、390號、392號
A3: 項目 | B3: 工料名稱及說明 | C3: 單位 | D3: 數量 | E3: 單價 | F3: 複價 | G3: 備註
A4: 二-2 | B4: ='2天花板'!B6 -> C-1：新作乳膠漆(綠建材)
A5: 1 | B5: 施工面清潔 | C5: ㎡ | D5: 1
A6: =A5+1 -> 2 | B6: 防霉抗菌乳膠漆，一底二度 | C6: ㎡ | D6: 1 | G6: 綠建材
A7: =A6+1 -> 3 | B7: 批(補)土+AB膠/黏著劑+纖維網帶/防火填塞/防霉填縫劑 | C7: ㎡ | D7: 1 | G7: 責任施工
A8: =A7+1 -> 4 | B8: 砂紙或機械研磨 | C8: ㎡ | D8: 1
A9: =A8+1 -> 5 | B9: 施工費 | C9: 式 | D9: 1 | G9: (含空調、水電維修等檢修口)
A10: =A9+1 -> 6 | B10: 搬運及清潔費 | C10: 式 | D10: 1
A11: =A10+1 -> 7 | B11: 零星工料及耗損 | C11: 式 | D11: 1
B14: 小 計(㎡)
A15: 項次 | B15: 工料名稱及說明 | C15: 單位 | D15: 數量 | E15: 單價 | F15: 複價 | G15: 備註
A16: 二-3 | B16: ='2天花板'!B7 -> C-2：新作明架耐震礦纖天花板(2"*2"15mm,耐燃一級.綠建材)
A17: 1 | B17: 礦纖天花板，明架，耐燃一級，15mm | C17: ㎡ | D17: 1 | G17: 耐燃一級,綠建材
A18: =A17+1 -> 2 | B18: 熱浸鋅骨架、∮±6mm螺紋吊桿@1220mm及五金等另料 | C18: 式 | D18: 1 | G18: 責任施工(含收邊料)
A19: =A18+1 -> 3 | B19: 擊釘火藥等耗材 | C19: 式 | D19: 1
A20: =A19+1 -> 4 | B20: 施工安裝費 | C20: 式 | D20: 1 | G20: (含空調、水電維修等檢修口)
A21: =A20+1 -> 5 | B21: 搬運及清潔費 | C21: 式 | D21: 1
A22: =A21+1 -> 6 | B22: 零星工料及耗損 | C22: 式 | D22: 1
B25: 小 計(㎡)
A26: 項次 | B26: 工料名稱及說明 | C26: 單位 | D26: 數量 | E26: 單價 | F26: 複價 | G26: 備註
A27: 二-4 | B27: ='2天花板'!B8 -> C-3：新作暗架抗震矽酸鈣天花板(TH:6mm,耐燃一級,綠建材)+防霉抗菌乳膠漆(綠建材)
A28: 1 | B28: TH ±6mm 矽酸鈣板 | C28: ㎡ | D28: 1 | G28: 耐燃一級,綠建材
A29: =1+A28 -> 2 | B29: 熱浸鋅骨架、∮±6mm螺紋吊桿@6000~900mm及五金等另料 | C29: 式 | D29: 1 | G29: 責任施工(含收邊料)
A30: =1+A29 -> 3 | B30: 維修孔、燈具框架及開口補強 | C30: ㎡ | D30: 1
A31: =1+A30 -> 4 | B31: 擊釘火藥等耗材 | C31: 式 | D31: 1
A32: =1+A31 -> 5 | B32: 板縫固型環氧樹脂/批土/補土+AB膠/黏著劑+纖維網帶 | C32: ㎡ | D32: 1 | G32: 責任施工
A33: =1+A32 -> 6 | B33: 施工安裝費 | C33: 式 | D33: 1 | G33: (含空調、水電維修等檢修口)
A34: =1+A33 -> 7 | B34: 刷漆前施工面清潔 | C34: ㎡ | D34: 1
A35: =1+A34 -> 8 | B35: 防霉抗菌乳膠漆，一底二度 | C35: ㎡ | D35: 1 | G35: 綠建材
A36: =1+A35 -> 9 | B36: 砂紙或機械研磨 | C36: ㎡ | D36: 1
A37: =1+A36 -> 10 | B37: 施工費 | C37: 式 | D37: 1
A38: =1+A37 -> 11 | B38: 搬運及清潔費 | C38: 式 | D38: 1
A39: =1+A38 -> 12 | B39: 零星工料及耗損 | C39: 式 | D39: 1
B42: 小 計(㎡)
A43: 項次 | B43: 工料名稱及說明 | C43: 單位 | D43: 數量 | E43: 單價 | F43: 複價 | G43: 備註
A44: 二-5 | B44: ='2天花板'!B9 -> C-4：新作半明架耐震礦纖天花板(2"*2"15mm,耐燃一級.綠建材)
A45: 1 | B45: 礦纖天花板，半明架，耐燃一級，15mm | C45: ㎡ | D45: 1 | G45: 耐燃一級,綠建材
A46: =A45+1 -> 2 | B46: 耐震熱浸鋅骨架、∮±6mm螺紋吊桿@1220mm及五金等另料,含收邊料 | C46: 式 | D46: 1 | G46: 責任施工(含收邊料)
A47: =A46+1 -> 3 | B47: 擊釘火藥等耗材 | C47: 式 | D47: 1
A48: =A47+1 -> 4 | B48: 施工安裝費 | C48: 式 | D48: 1
A49: =A48+1 -> 5 | B49: 搬運及清潔費 | C49: 式 | D49: 1
A50: =A49+1 -> 6 | B50: 零星工料及耗損 | C50: 式 | D50: 1
B53: 小 計(㎡)
A54: 項次 | B54: 工料名稱及說明 | C54: 單位 | D54: 數量 | E54: 單價 | F54: 複價 | G54: 備註
A55: 三-3 | B55: ='3地坪'!B7 -> G-1：新作陶瓷面磚TH6mm以上(90*90以上/120*240)(霧面)(止滑)(含分隔)/施工面打毛處理,
A56: 1 | B56: 施工面打鑿打毛處裡 | C56: ㎡ | D56: 1
A57: =1+A56 -> 2 | B57: 面貼陶質地磚(900*900 mm~1200*2400mm,t=6mm以上 ) | C57: ㎡ | D57: 1 | G57: 送樣；止滑性能
A58: =1+A57 -> 3 | B58: 雙面滿膠黏著劑 | C58: ㎡ | D58: 1
A59: =1+A58 -> 4 | B59: 填縫、轉角、收邊條等工料 | C59: ㎡ | D59: 1
A60: =1+A59 -> 5 | B60: 防水處理(彈泥)及自平水泥 | C60: ㎡ | D60: 1 | G60: 責任施工
A61: =1+A60 -> 6 | B61: 無收縮水泥砂漿導角、灰誌 | C61: M | D61: 1
A62: =1+A61 -> 7 | B62: 角偶、界面PU填縫及分隔縫留設 | C62: M | D62: 1
A63: =1+A62 -> 8 | B63: 工資 | C63: 式 | D63: 1
A64: =1+A63 -> 9 | B64: 工具搬運及損耗 | C64: 式 | D64: 1
B67: 小 計(㎡)
A68: 項次 | B68: 工料名稱及說明 | C68: 單位 | D68: 數量 | E68: 單價 | F68: 複價 | G68: 備註
A69: 三-4 | B69: ='3地坪'!B8 -> G-2：新作500型高架地板(HPL:±1.0mm以上) (H>10cm/接地銅線)
A70: 1 | B70: 合金鋼素材面板(500型) | C70: ㎡ | D70: 1
A71: =A70+1 -> 2 | B71: 高壓積層板(H.P.L:±1.0mm以上) | C71: ㎡ | D71: 1
A72: =A71+1 -> 3 | B72: 合金鋼基座 | C72: 式 | D72: 1
A73: =A72+1 -> 4 | B73: 合金鋼金屬桁樑 | C73: 式 | D73: 1
A74: =A73+1 -> 5 | B74: 接地銅網(含接地工程)、施工面軟墊等另料 | C74: 式 | D74: 1
A75: =A74+1 -> 6 | B75: 黏著劑 | C75: 式 | D75: 1
A76: =A75+1 -> 7 | B76: 施工安裝費(含裁切加工)工資 | C76: 式 | D76: 1
A77: =A76+1 -> 8 | B77: 搬運及清潔費 | C77: 式 | D77: 1
A78: =A77+1 -> 9 | B78: 零星工料及耗損 | C78: 式 | D78: 1
B84: 小 計(㎡)
A85: 項次 | B85: 工料名稱及說明 | C85: 單位 | D85: 數量 | E85: 單價 | F85: 複價 | G85: 備註
A86: 三-7 | B86: ='3地坪'!B11 -> G-5：新作Th2.0mm以上塑膠地磚(木紋系列)(接著劑:綠建材)
A87: 1 | B87: Th2.0mm以上超耐磨塑膠地坪 (木紋或石紋系列) | C87: ㎡ | D87: 1 | G87: 防焰一級
A88: =A87+1 -> 2 | B88: 施工面整平(含:自平水泥與泥作修補) | C88: ㎡ | D88: 1
A89: =A88+1 -> 3 | B89: 地材黏著劑(含工資及另料) | C89: ㎡ | D89: 1 | G89: 無刺激異味
A90: =A89+1 -> 4 | B90: 組裝(裁切加工)工資及收邊五金另料 | C90: 式 | D90: 1
A91: =A90+1 -> 5 | B91: 搬運及清潔費 | C91: 式 | D91: 1
A92: =A91+1 -> 6 | B92: 損耗 | C92: 式 | D92: 1
B100: 小 計(㎡)
A101: 項次 | B101: 工料名稱及說明 | C101: 單位 | D101: 數量 | E101: 單價 | F101: 複價 | G101: 備註
A102: 四-3 | B102: ='4牆面及隔間'!B7 -> W2A:雙面±9mm矽酸鈣板分間牆(綠建材,防火時效一小時) 牆厚:12cm | G102: 責任施工
A103: 1 | B103: 矽酸鈣板 T=9mm | C103: ㎡ | D103: 2 | G103: 耐燃一級,綠建材
A104: 2 | B104: C型立柱Th 20GA@40cm(含配合捲門、防火門骨架加強)穿樘料@60cm | C104: ㎡ | D104: 1 | G104: 20GA(Th1.0mm)
A105: 3 | B105: U型槽Th20GA | C105: ㎡ | D105: 1 | G105: 20GA(Th1.0mm)
A106: 4 | B106: 2"60K岩棉 | C106: ㎡ | D106: 1
A107: 5 | B107: 安裝工資 | C107: 式 | D107: 1
A108: 6 | B108: 批(補)土+AB膠/黏著劑+纖維網帶/防火填塞/防霉填縫劑 | C108: 式 | D108: 1 | G108: 責任施工
A109: 7 | B109: 五金另料(含護角/自攻螺栓…等)及配件 | C109: 式 | D109: 1
A110: 8 | B110: 搬運及損耗 | C110: 式 | D110: 1
B115: 小 計(㎡)
A116: 項次 | B116: 工料名稱及說明 | C116: 單位 | D116: 數量 | E116: 單價 | F116: 複價 | G116: 備註
A117: 四-4 | B117: ='4牆面及隔間'!B8 -> W2B:雙面±9mm矽酸鈣板分間牆(綠建材,防火時效一小時) 牆厚:17cm | G117: 責任施工
A118: 1 | B118: 矽酸鈣板 T=9mm | C118: ㎡ | D118: 2 | G118: 耐燃一級,綠建材
A119: 2 | B119: C型立柱Th 20GA@40cm(含配合捲門、防火門骨架加強)穿樘料@1200cm | C119: ㎡ | D119: 1 | G119: 20GA(Th1.0mm)
A120: 3 | B120: U型槽Th20GA | C120: ㎡ | D120: 1 | G120: 20GA(Th1.0mm)
A121: 4 | B121: 2"60K岩棉 | C121: ㎡ | D121: 1
A122: 5 | B122: 安裝工資 | C122: 式 | D122: 1
A123: 6 | B123: 批(補)土+AB膠/黏著劑+纖維網帶/防火填塞/防霉填縫劑 | C123: 式 | D123: 1 | G123: 責任施工
A124: 7 | B124: 五金另料(含護角/自攻螺栓…等)及配件 | C124: 式 | D124: 1
A125: 8 | B125: 搬運及損耗 | C125: 式 | D125: 1
B131: 小 計(㎡)
...

Sheet 乙機電
A1: 工程名稱:全國農業金庫台中分行行舍室內裝修工程
A2: 工程地點:臺中市南屯路二段388號、390號、392號
A3: 項次 | B3: 工 程 項 目 | C3: 單位 | D3: 數 量 | E3: 單 價 | F3: 複 價 | G3: 備註
A4: 壹 | B4: 分行室內裝修工程
A5: 乙 | B5: 機電工程
A6: 一 | B6: 電氣設備工程 | C6: 式 | D6: 1
A7: 二 | B7: 電信設備工程 | C7: 式 | D7: 1
A8: 三 | B8: 資訊設備工程 | C8: 式 | D8: 1
A9: 四 | B9: 弱電設備工程 | C9: 式 | D9: 1
A10: 伍 | B10: 給排水設備工程 | C10: 式 | D10: 1
A11: 六 | B11: 空調設備工程 | C11: 式 | D11: 1
A12: 七 | B12: 消防設備工程 | C12: 式 | D12: 1
B15: 小計(一~七項)
A18: 一 | B18: 電氣設備工程
A19: (一) | B19: 配電盤設備工程
A20: 1 | B20: P11 PANEL
A21: 1) | B21: CASE :屋內型 2.0mm/sphc 靜電粉體烤漆 ,含中板(外門設文件架內含竣工單線圖) | C21: 只 | D21: 1 | G21: 專業廠
A22: 2) | B22: MCCB 3P 50AF 50AT 380V ICU 15KA | C22: 只 | D22: 2 | G22: 士林,東元,伍菱或同等品
A23: 4) | B23: MCCB 3P 50AF 20AT 380V ICU 15KA | C23: 只 | D23: 2 | G23: 士林,東元,伍菱或同等品
A24: 5) | B24: MCCB 1P 50AF 15AT 220V ICU 15KA | C24: 只 | D24: 1 | G24: 士林,東元,伍菱或同等品
A25: 6) | B25: ELCB 1P 50AF 20AT 220V ICU 15KA 30mA 0.1sec | C25: 只 | D25: 2 | G25: 士林,東元,伍菱或同等品
A26: 7) | B26: CT 600V 50/5A 15VA MOLD TYPE | C26: 只 | D26: 3 | G26: 士林、巧力、大同或同等品
A27: 8) | B27: D-FUSE 4A | C27: 組 | D27: 3 | G27: 台制品
A28: 9) | B28: 集合式電表 | C28: 只 | D28: 1 | G28: 士林或同等品
A29: 10) | B29: MS 1ψ220V 2HP | C29: 只 | D29: 2 | G29: 士林,東元,伍菱或同等品
A30: 11) | B30: TIMER 24H 附停電補償 | C30: 只 | D30: 2 | G30: 台制品
A31: 12) | B31: PBL 22φ LED照光式壓扣220V 1a(R) | C31: 只 | D31: 2 | G31: 台制品
A32: 13) | B32: PBL 22φ LED照光式壓扣220V 1b(G) | C32: 只 | D32: 2 | G32: 台制品
A33: 14) | B33: CS 22φ 三段式選擇開關 2A | C33: 只 | D33: 2 | G33: 台制品
A34: 15) | B34: BUS BAR & SUPPORT | C34: 式 | D34: 1
A35: 16) | B35: 裝配五金另料 | C35: 式 | D35: 1
A36: 17) | B36: 裝配組立工資 | C36: 式 | D36: 1
A37: 2 | B37: EP11 PANEL
A38: 1) | B38: CASE :屋內型 2.0mm/sphc 靜電粉體烤漆 ,含中板(外門設文件架內含竣工單線圖) | C38: 只 | D38: 1 | G38: 專業廠
A39: 2) | B39: MCCB 3P 50AF 50AT 380V ICU 10KA | C39: 只 | D39: 1 | G39: 士林,東元,伍菱或同等品
A40: 3) | B40: MCCB 3P 50AF 20AT 380V ICU 10KA | C40: 只 | D40: 2 | G40: 士林,東元,伍菱或同等品
A41: 4) | B41: MCCB 2P 50AF 50AT 220V ICU 10KA | C41: 只 | D41: 1 | G41: 士林,東元,伍菱或同等品
A42: 5) | B42: MCCB 1P 50AF 20AT 220V ICU 10KA | C42: 只 | D42: 3 | G42: 士林,東元,伍菱或同等品
A43: 6) | B43: MCCB 1P 50AF 15AT 220V ICU 10KA | C43: 只 | D43: 5 | G43: 士林、巧力、大同或同等品
A44: 7) | B44: ATS 4P 50A 380V ICU10KA NFB TYPE 附電氣及機械連鎖裝置 | C44: 台 | D44: 1 | G44: 尚偉、曄鑫、固也泰或同等品
A45: 8) | B45: RCSW 負戴分配器 先偵測後自動投入及跳脫 4P 50AF 30AT 380V 10KA NFB-TYPE | C45: 台 | D45: 1 | G45: 尚偉、曄鑫、固也泰或同等品
A46: 9) | B46: BUS BAR & SUPPORT | C46: 式 | D46: 1
A47: 10) | B47: 裝配五金另料 | C47: 式 | D47: 1
A48: 11) | B48: 裝配組立工資 | C48: 式 | D48: 1
A49: 3 | B49: UR11 PANEL
A50: 1) | B50: CASE :屋內型 2.0mm/sphc 靜電粉體烤漆 ,含中板(外門設文件架內含竣工單線圖) | C50: 只 | D50: 1 | G50: 專業廠
A51: 2) | B51: MCCB 2P 50AF 50AT 220V ICU 10KA | C51: 只 | D51: 1 | G51: 士林,東元,伍菱或同等品
A52: 3) | B52: MCCB 2P 50AF 30AT 220V ICU 10KA | C52: 只 | D52: 1 | G52: 士林,東元,伍菱或同等品
A53: 4) | B53: MCCB 1P 50AF 20AT 110V ICU 10KA | C53: 只 | D53: 12 | G53: 士林,東元,伍菱或同等品
A54: 5) | B54: BUS BAR & SUPPORT | C54: 式 | D54: 1
A55: 6) | B55: 裝配五金另料 | C55: 式 | D55: 1
A56: 7) | B56: 裝配組立工資 | C56: 式 | D56: 1
A57: 4 | B57: P12 PANEL
A58: 1) | B58: CASE :屋內型 2.0mm/sphc 靜電粉體烤漆 ,含中板(外門設文件架內含竣工單線圖) | C58: 只 | D58: 1 | G58: 專業廠
A59: 2) | B59: MCCB 3P 50AF 50AT 380V ICU 15KA | C59: 只 | D59: 1 | G59: 士林,東元,伍菱或同等品
A60: 3) | B60: MCCB 3P 50AF 15AT 380V ICU 15KA | C60: 只 | D60: 2 | G60: 士林,東元,伍菱或同等品
A61: 4) | B61: CT 600V 50/5A 15VA MOLD TYPE | C61: 只 | D61: 3 | G61: 士林、巧力、大同或同等品
A62: 5) | B62: D-FUSE 4A | C62: 組 | D62: 3 | G62: 台制品
A63: 6) | B63: 集合式電表 | C63: 只 | D63: 1 | G63: 士林或同等品
A64: 7) | B64: BUS BAR & SUPPORT | C64: 式 | D64: 1
A65: 8) | B65: 裝配五金另料 | C65: 式 | D65: 1
A66: 9) | B66: 裝配組立工資 | C66: 式 | D66: 1
A67: 5 | B67: R11 PANEL
A68: 1) | B68: CASE :屋內型 2.0mm/sphc 靜電粉體烤漆 ,含中板(外門設文件架內含竣工單線圖) | C68: 只 | D68: 1 | G68: 專業廠
A69: 2) | B69: MCCB 3P 50AF 30AT 190V ICU 10KA | C69: 只 | D69: 1 | G69: 士林,東元,伍菱或同等品
A70: 3) | B70: MCCB 3P 50AF 20AT 190V ICU 10KA | C70: 只 | D70: 1 | G70: 士林,東元,伍菱或同等品
A71: 4) | B71: MCCB 1P 50AF 20AT 110V ICU 10KA | C71: 只 | D71: 9 | G71: 士林,東元,伍菱或同等品
A72: 5) | B72: ELCB 1P 50AF 20AT 110V ICU 10KA 30mA 0.1sec | C72: 只 | D72: 1 | G72: 士林,東元,伍菱或同等品
A73: 6) | B73: BUS BAR & SUPPORT | C73: 式 | D73: 1
A74: 7) | B74: 裝配五金另料 | C74: 式 | D74: 1
A75: 8) | B75: 裝配組立工資 | C75: 式 | D75: 1
A76: 6 | B76: R13 PANEL
A77: 1) | B77: CASE :屋內型 2.0mm/sphc 靜電粉體烤漆 ,含中板(外門設文件架內含竣工單線圖) | C77: 只 | D77: 1 | G77: 專業廠
A78: 2) | B78: MCCB 3P 50AF 30AT 190V ICU 10KA | C78: 只 | D78: 1 | G78: 士林,東元,伍菱或同等品
A79: 3) | B79: MCCB 3P 50AF 20AT 190V ICU 10KA | C79: 只 | D79: 1 | G79: 士林,東元,伍菱或同等品
A80: 4) | B80: MCCB 1P 50AF 20AT 110V ICU 10KA | C80: 只 | D80: 7 | G80: 士林,東元,伍菱或同等品
A81: 5) | B81: ELCB 1P 50AF 20AT 110V ICU 10KA 30mA 0.1sec | C81: 只 | D81: 2 | G81: 士林,東元,伍菱或同等品
A82: 6) | B82: BUS BAR & SUPPORT | C82: 式 | D82: 1
A83: 7) | B83: 裝配五金另料 | C83: 式 | D83: 1
A84: 8) | B84: 裝配組立工資 | C84: 式 | D84: 1
A85: 7 | B85: P13 PANEL
A86: 1) | B86: CASE :屋內型 2.0mm/sphc 靜電粉體烤漆 ,含中板(外門設文件架內含竣工單線圖) | C86: 只 | D86: 1 | G86: 專業廠
A87: 2) | B87: MCCB 3P 50AF 50AT 380V ICU 15KA | C87: 只 | D87: 1 | G87: 士林,東元,伍菱或同等品
A88: 3) | B88: MCCB 3P 50AF 40AT 380V ICU 15KA | C88: 只 | D88: 1 | G88: 士林,東元,伍菱或同等品
A89: 4) | B89: MCCB 1P 50AF 15AT 220V ICU 15KA | C89: 只 | D89: 2 | G89: 士林,東元,伍菱或同等品
A90: 5) | B90: MCCB 3P 50AF 20AT 380V ICU 15KA | C90: 只 | D90: 2 | G90: 士林,東元,伍菱或同等品
A91: 6) | B91: ELCB 1P 50AF 20AT 220V ICU 15KA 30mA 0.1sec | C91: 只 | D91: 1 | G91: 士林,東元,伍菱或同等品
A92: 7) | B92: CT 600V 50/5A 15VA MOLD TYPE | C92: 只 | D92: 3 | G92: 士林、巧力、大同或同等品
A93: 8) | B93: D-FUSE 4A | C93: 組 | D93: 3 | G93: 台制品
A94: 9) | B94: 集合式電表 | C94: 只 | D94: 1 | G94: 士林或同等品
A95: 10) | B95: MS 1ψ220V 2HP | C95: 只 | D95: 1 | G95: 士林,東元,伍菱或同等品
A96: 11) | B96: TIMER 24H 附停電補償 | C96: 只 | D96: 1 | G96: 台制品
A97: 12) | B97: PBL 22φ LED照光式壓扣220V 1a(R) | C97: 只 | D97: 1 | G97: 台制品
... A99: 14) | B99: CS 22φ 三段式選擇開關 2A | C99: 只 | D99: 1 | G99: 台制品
A100: 15) | B100: BUS BAR & SUPPORT | C100: 式 | D100: 1
A101: 16) | B101: 裝配五金另料 | C101: 式 | D101: 1
A102: 17) | B102: 裝配組立工資 | C102: 式 | D102: 1
A103: 8 | B103: EP13 PANEL
A104: 1) | B104: CASE :屋內型 2.0mm/sphc 靜電粉體烤漆 ,含中板(外門設文件架內含竣工單線圖) | C104: 只 | D104: 1 | G104: 專業廠
A105: 2) | B105: MCCB 3P 50AF 40AT 380V ICU 10KA | C105: 只 | D105: 1 | G105: 士林,東元,伍菱或同等品
...

Sheet 貳配合變更甲
A1: 工程名稱:全國農業金庫台中分行行舍室內裝修工程
A2: 工程地點:臺中市南屯路二段388號、390號、392號
A3: 項次 | B3: 工 程 項 目 | C3: 單位 | D3: 數 量 | E3: 單 價 | F3: 複 價 | G3: 備 註
A4: 貳 | B4: 配合建築物用途變更項目(建築物用途變更為G-1 金融業)
A5: 甲 | B5: 裝修工程
A6: 一 | B6: 拆除工程 | C6: 式 | D6: 1
A7: 二 | B7: 地坪工程 | C7: 式 | D7: 1
A8: 三 | B8: 牆面及隔間工程 | C8: 式 | D8: 1
A9: 四 | B9: 門窗工程 | C9: 式 | D9: 1
A10: 五 | B10: 新作無障礙樓梯(含無障礙標誌及欄杆扶手等) | C10: 式 | D10: 1 | G10: 責任施工/(符合無障礙規範/1~2樓(含夾層))
A11: 六 | B11: 新作無障礙電梯設備工程 | C11: 式 | D11: 1 | G11: 責任施工/(符合無障礙規範/1~2樓(含夾層))
A12: 七 | B12: 雜項工程 | C12: 式 | D12: 1
B13: 小計(一~七項)
A16: 一 | B16: 拆除工程
A17: 1 | B17: 分戶牆切割及打石拆除(RC牆) | C17: m² | D17: 50 | G17: 1~2樓(含夾層)
A18: =1+A17 -> 2 | B18: 店鋪6原有RC樓梯踏階、平台打石及扶手打石拆除(1F、夾層及2F) | C18: m² | D18: 23 | G18: 1~2樓(含夾層)
A19: =1+A18 -> 3 | B19: 原有纖維水泥板分間牆拆除 | C19: m² | D19: 14
A20: =1+A19 -> 4 | B20: (原店6)原有廁所拆除(牆面磁磚) | C20: m² | D20: 13 | G20: 含粉刷層剃除
A21: =1+A20 -> 5 | B21: (原店6)原有廁所拆除(地磚) | C21: m² | D21: 2 | G21: 含粉刷層剃除
A22: =1+A21 -> 6 | B22: (原店8)RC牆配合新設無障礙電梯門開口打除 | C22: 樘 | D22: 3 | G22: 1~2樓(含夾層)
A23: =1+A22 -> 7 | B23: (原店6)原有廁所拆除(衛生設備及水電管(路)線) | C23: 間 | D23: 1 | G23: 含廢棄吊架、五金
A24: =1+A23 -> 8 | B24: 既有電梯設備原廠拆除費(含運棄) | C24: 台 | D24: 3 | G24: 1~2樓(含夾層)
A25: =1+A24 -> 9 | B25: 廢棄物、垃圾等清理運棄 | C25: 式 | D25: 1
B26: 小計
A28: 二 | B28: 地坪工程
A29: 1 | B29: 原有廁所拆除後地坪新作水泥粉刷 | C29: ㎡ | D29: 2
A30: =1+A29 -> 2 | B30: 1樓新設出入口無障礙斜坡平台及斜坡(含止滑條)(150*150cm) | C30: 處 | D30: 1 | G30: 符合無障礙規範/樣式:參見大樓公設作法
A31: =1+A30 -> 3 | B31: 新作1樓室內斜坡(含止滑條)、木扶手∮4~6 cm | C31: 式 | D31: 1 | G31: 符合無障礙規範/樣式:參見大樓公設作法
A32: =1+A31 -> 4 | B32: G-4：新作陶瓷面磚(止滑磚±45cm*±45cm以上)(含牆面、地坪防水) | C32: ㎡ | D32: 6 | G32: (符合CNS)
A33: =1+A32 -> 5 | B33: G-6：(原有電梯及樓梯拆除後)樓板修補處:樓板開口新作RC樓板(含樓板補強) | G33: 責任施工/鋼鐵建材無輻射證明
A34: (1) | B34: 開口處新作樓板處銜接界面打毛作業 | C34: 式 | D34: 1
A35: (2) | B35: 1.2T 3W DECK鋼承鈑 | C35: m² | D35: 28
A36: (3) | B36: 鋼承鈑封鈑收邊 | C36: 式 | D36: 1
A37: (4) | B37: 19φ剪力釘 | C37: 支 | D37: 45
A38: (5) | B38: 75x75x6t角鋼 | C38: M | D38: 47
A39: (6) | B39: 13φ膨脹螺栓 | C39: 支 | D39: 223 | G39: (含施工、藥劑等材料工資)
A40: (7) | B40: 鋼梁H200x200x8x12 | C40: M | D40: 15
A41: (8) | B41: PL15*300*350錨定鈑 | C41: 塊 | D41: 14
A42: (9) | B42: PL12*150*150接合鈑 | C42: 塊 | D42: 14
A43: (10) | B43: 20φ化學錨栓 | C43: 支 | D43: 56 | G43: (含施工、藥劑等材料工資)
A44: (11) | B44: M20高強度螺栓 | C44: 支 | D44: 56 | G44: (含施工、藥劑等材料工資)
A45: (12) | B45: 鋼樑、樓板等固定安裝工資 | C45: 式 | D45: 1
A46: (13) | B46: 鋼構除鏽及防鏽處理 | C46: 式 | D46: 1
A47: (14) | B47: 新增鋼板、鋼樑補強,面刷防火塗料(含底漆、面漆)(防火一小時) | C47: 式 | D47: 1
A48: (15) | B48: SD280W鋼筋綁紮工料 | C48: 噸 | D48: 0.55
A49: (16) | B49: 4000psi預拌混凝土 | C49: m³ | D49: 5
A50: (17) | B50: 樓板混凝土澆置及養護工料 | C50: 式 | D50: 1
A51: (18) | B51: 混凝土輸送管，泵浦車出車費 | C51: 式 | D51: 1
A52: (19) | B52: 吊車費 | C52: 式 | D52: 1
A53: (20) | B53: 施工中交通管制指揮及道路清洗 | C53: 式 | D53: 1
A54: (21) | B54: 新作樓板零星配合工料 | C54: 式 | D54: 1
A55: (22) | B55: 結構技師簽證 | C55: 式 | D55: 1 | G55: 專業技師簽證
A56: =1+A33 -> 6 | B56: G-7：新作止滑橡膠地板及砂漿、鋼筋網(含級高、級深) | C56: ㎡ | D56: 44 | G56: 新作無障礙樓梯
A57: =1+A56 -> 7 | B57: (承上)新作樓梯:踏步止滑條 | C57: M | D57: 54 | G57: 含固定安裝
A58: =1+A57 -> 8 | B58: ㄇ字型不銹鋼門檻壓條收邊(1樓廁所) | C58: M | D58: 1 | G58: 異材質交接處
B59: 小計
A61: 三 | B61: 牆面及隔間工程
A62: 1 | B62: W1：TH20cm RC 牆(新作樓梯平台) | G62: 責任施工
A63: (a) | B63: #4鋼筋，植筋，鑽孔及藥劑工料(單根長40cm) | C63: 支 | D63: 35 | G63: 鋼鐵建材無輻射證明
A64: (b) | B64: #5鋼筋，植筋，鑽孔及藥劑工料(單根長45cm) | C64: 支 | D64: 48 | G64: 鋼鐵建材無輻射證明
A65: (c) | B65: SD280W鋼筋綁紮工料 | C65: 噸 | D65: 0.3 | G65: 鋼鐵建材無輻射證明
A66: (d) | B66: 4000psi預拌混凝土 | C66: m³ | D66: 3
A67: (e) | B67: 樓板混凝土澆置及養護工料 | C67: 式 | D67: 1
A68: (f) | B68: 混凝土輸送管，泵浦車出車費 | C68: 式 | D68: 1
A69: (g) | B69: 混凝土模板組立支撐及拆除工料 | C69: m² | D69: 31
A70: (h) | B70: 灌漿頂部縫隙以EPOXY灌注填充 | C70: 式 | D70: 1
A71: (I) | B71: 結構技師簽證 | C71: 式 | D71: 1
A72: =1+A62 -> 2 | B72: W1A:新作纖維水泥板隔間(綠建材,防火時效一小時) | C72: ㎡ | D72: 21 | G72: 1樓無障礙廁所
A73: =A72+1 -> 3 | B73: W8:新作廁所 30*60cm面磚+彈性塗料+防水粉刷 | C73: ㎡ | D73: 32
A74: =A73+1 -> 4 | B74: 原有廁所拆除後牆面新作水泥粉刷、防水層處理 | C74: ㎡ | D74: 13
A75: =A74+1 -> 5 | B75: 新作小便斗(熱固性樹脂裝飾板)導擺(45*60cm)(含安組裝、固定五金) | C75: 組 | D75: 1 | G75: 安裝尺寸及位置符合無障礙設置
B76: 小計
A78: 四 | B78: 門窗工程
A79: 1 | B79: D1 單開烤漆鋼板防火門 (F60A)：±100*±220 cm(原照應設置) | C79: 樘 | D79: 2 | G79: 含測試報告及出廠證明(完工後)
A80: =1+A79 -> 2 | B80: D2b 單開烤漆鋼板門：±100*±220 cm | C80: 樘 | D80: 1 | G80: 夾層高架地板區
A81: =1+A80 -> 3 | B81: D12 無障礙廁所橫拉門(安裝尺寸及位置符合無障礙設置符合無障礙規範)：±100*±220 cm | C81: 樘 | D81: 1 | G81: 五金齊全/含防撞門檔
A82: =1+A81 -> 4 | B82: 1F:SD1 防火捲門 (F60AS) (阻熱密閉式)具遮煙性：±249*±(255+55) cm (責任施工/含骨架固定) | C82: 樘 | D82: 1 | G82: 含消防相關連動設置(測試及管線路配置工料)、測試報告及出廠證明(完工後),詳單價分析(變更G1)
A83: =1+A82 -> 5 | B83: 1F:SD2 防火捲門 (F60AS) (阻熱密閉式)具遮煙性：±194*±(265+55) cm (責任施工/含骨架固定) | C83: 樘 | D83: 1 | G83: 含消防相關連動設置(測試及管線路配置工料)、測試報告及出廠證明(完工後)
A84: =1+A83 -> 6 | B84: 1F:SD3 防火捲門 (F60AS) (阻熱密閉式)具遮煙性：±204*±(265+55) cm (責任施工/含骨架固定) | C84: 樘 | D84: 1 | G84: 含消防相關連動設置(測試及管線路配置工料)、測試報告及出廠證明(完工後)
A85: =1+A84 -> 7 | B85: 1F:SD4 防火捲門 (F60AS) (阻熱密閉式)具遮煙性：±195*±(255+55) cm (責任施工/含骨架固定) | C85: 樘 | D85: 1 | G85: 含消防相關連動設置(測試及管線路配置工料)、測試報告及出廠證明(完工後)
B86: 小計
A88: 五 | B88: 新作無障礙樓梯(含無障礙標誌及欄杆扶手等)/符合無障礙規範/責任施工 | G88: 鋼鐵建材無輻射證明
A89: 1 | B89: 放樣、丈量及鋼構施工製造圖繪製 | C89: 式 | D89: 1 | G89: 1~2樓(含夾層)
A90: =1+A89 -> 2 | B90: 鋼板(含加工費) | C90: KG | D90: 2741 | G90: 符合CNS
A91: =1+A90 -> 3 | B91: 加勁鈑(含錨定鈑11處)(含加工費) | C91: KG | D91: 217 | G91: 符合CNS
A92: =1+A91 -> 4 | B92: L75x75角鋼(含固定另料) | C92: M | D92: 11 | G92: 符合CNS
A93: =1+A92 -> 5 | B93: 13φ膨漲螺栓(含施工、藥劑) | C93: 支 | D93: 100 | G93: 符合CNS
A94: =1+A93 -> 6 | B94: 2.3x2.3/7.5x7.5鋼絲網 | C94: m² | D94: 27
A95: =1+A94 -> 7 | B95: 鋼構除鏽及防鏽處理 | C95: 式 | D95: 1
A96: =1+A95 -> 8 | B96: 鋼構樓梯、踏面固定、安裝及零星配合工資 | C96: 式 | D96: 1 | G96: 含與既有RC牆面固定等另料
A97: =1+A96 -> 9 | B97: 結構鋼焊道檢測報告(非破壞)(符合TAF認證)(測試長度>30M) | C97: 式 | D97: 1 | G97: 具TAF資格
A98: =1+A97 -> 10 | B98: 新增鋼板、鋼樑補強,面刷防火塗料(含底漆、面漆)(防火一小時) | C98: 式 | D98: 1 | G98: 測試報告及出廠證明(完工後)
A99: =1+A98 -> 11 | B99: 3000psi砂漿 | C99: m3 | D99: 1
A100: =1+A99 -> 12 | B100: 混凝土澆置及養護工料 | C100: 式 | D100: 1
A101: =1+A100 -> 13 | B101: 混凝土輸送管，泵浦車出車費 | C101: 式 | D101: 1
A102: =1+A101 -> 14 | B102: 鋼構安裝(含施工車)搬運及運輸 | C102: 式 | D102: 1
A103: =1+A102 -> 15 | B103: 吊車費 | C103: 式 | D103: 1
A104: =1+A103 -> 16 | B104: 無障礙扶手/符合無障礙規範/1~2樓(含夾層) | C104: M | D104: 31 | G104: 符合無障礙規範
A105: =1+A104 -> 17 | B105: 無障礙樓梯警示設施(地面、牆面)/符合無障礙規範/1~2樓(含夾層) | C105: 式 | D105: 1 | G105: 符合無障礙規範/樣式:參見大樓公設作法
A106: =1+A105 -> 18 | B106: 結構技師簽證 | C106: 式 | D106: 1
...

Sheet 貳配合變更乙
A1: 工程名稱:全國農業金庫台中分行行舍室內裝修工程
A2: 工程地點:臺中市南屯路二段388號、390號、392號
A3: 項次 | B3: 工 程 項 目 | C3: 單位 | D3: 數 量 | E3: 單 價 | F3: 複 價 | G3: 備 註
A4: 貳 | B4: 配合建築物用途變更項目(建築物用途變更為G-1 金融業)
A5: 乙 | B5: 機電工程
A6: 一 | B6: 電氣設備工程 | C6: 式 | D6: 1
A7: 二 | B7: 給排水設備工程 | C7: 式 | D7: 1
A8: 三 | B8: 消防設備工程 | C8: 式 | D8: 1 | G8: 符合消防及建築防火法規
B10: 小計(一~三項)
A13: 一 | B13: 電氣設備工程
A14: (一) | B14: 配電盤設備工程
A15: 1 | B15: FP1 PANEL
A16: 1) | B16: CASE :屋內型 2.0mm/sphc 靜電粉體烤漆 ,含中板(外門設文件架內含竣工單線圖) | C16: 只 | D16: 1 | G16: 專業廠
A17: 2) | B17: MCCB 2P 50AF 50AT 220V ICU 10KA | C17: 只 | D17: 1 | G17: 士林,東元,伍菱或同等品
A18: 3) | B18: MCCB 2P 50AF 20AT 220V ICU 10KA | C18: 只 | D18: 6 | G18: 士林,東元,伍菱或同等品
A19: 4) | B19: MCCB 2P 50AF 15AT 220V ICU 10KA | C19: 只 | D19: 1 | G19: 士林,東元,伍菱或同等品
A20: 5) | B20: BUS BAR & SUPPORT | C20: 式 | D20: 1
A21: 6) | B21: 裝配五金另料 | C21: 式 | D21: 1
A22: 7) | B22: 裝配組立工資 | C22: 式 | D22: 1
A24: (八) | B24: 不斷電設備工程
A25: 1.1 | B25: ON-LINE 直立式UPS 10KVA (消防署認證) | C25: 台 | D25: 1
B26: 電池供電時間：提供滿載供電30分鐘
B27: 輸入電壓 ：1相2線 220V 60Hz
B28: 輸出電壓 ：1相2線 220V 60Hz
A29: 1.2 | B29: 消耗品及另料 | C29: 式 | D29: 1
A30: 1.3 | B30: 運雜費 | C30: 式 | D30: 1
A31: 1.4 | B31: 安裝工資 | C31: 式 | D31: 1
B32: 小計
A33: 二 | B33: 給排水設備工程
A34: (一) | B34: 衛生設備工程 | G34: HCG,Caeser,TOTO或同等品
A35: 1 | B35: 掛牆式小便斗含電動沖水 | C35: 組 | D35: 1 | G35: 無障礙小便斗應符合無障礙規範
A36: 2 | B36: 無障礙坐式快沖馬桶(含原廠給排水銅器配件全,不鏽鋼安全扶手及感應設備) | C36: 組 | D36: 1 | G36: 符合無障礙規範
A37: 3 | B37: 掛式洗面盆(無障礙用,附不鏽鋼面盆安全扶手及感應式龍頭,含原廠給排水銅器配件全 | C37: 組 | D37: 1
A38: 4 | B38: 小便斗安全扶手 | C38: 組 | D38: 1 | G38: 符合無障礙規範
B39: 小計
A41: 三 | B41: 消防設備工程 | G41: 消防署認可品
A42: (一) | B42: 室內消防栓設備
A43: 1 | B43: 綜合室內水帶箱 (含P、L、水帶*2、瞄子*1等) | C43: 只 | D43: 1
A44: 2 | B44: 太平龍頭 1 1/2" (40A) | C44: 只 | D44: 1
A45: 3 | B45: 閘門閥(法蘭式) 10kgf/cm2 3"(80A) | C45: 組 | D45: 1
A46: 4 | B46: 泵浦啟動燈 DC 24V | C46: 只 | D46: 1
A47: 5 | B47: 導線管，電線用鋼管，無螺紋，EMT 19φx 1.2mm | C47: 式 | D47: 1
A48: 6 | B48: 電線及電纜，HR，1.6mm(耐熱電線)(泵浦啟動燈用) | C48: 式 | D48: 1
A49: 7 | B49: CNS6445 粉體塗裝碳鋼鋼管(SGP)，標稱管徑80mm | C49: M | D49: 86
A50: 8 | B50: CNS6445粉體塗裝碳鋼鋼管(SGP)，標稱管徑40mm | C50: M | D50: 6
A51: 9 | B51: 管路固定及吊支架及配管配線另件 | C51: 式 | D51: 1
A52: 10 | B52: 打鑿切樓板及防火填塞(防火時效1小時) | C52: 式 | D52: 1
A53: 11 | B53: 搬運雜費，試水試壓測試 | C53: 式 | D53: 1
A54: 12 | B54: 配管配線及設備安裝工資 | C54: 式 | D54: 1
A56: (二) | B56: 電梯防煙捲幕及連動工程 | G56: 符合消防及建築防火法規
A57: 1 | B57: 電梯口-外掛式F60B防火遮煙捲簾(含馬達、控制盒、機箱、軌道) | C57: 樘 | D57: 3 | G57: 符合消防及建築防火法規
A58: 2 | B58: 緊急壓扣 | C58: 只 | D58: 1
A59: 3 | B59: 防煙捲幕控制盤 | C59: 組 | D59: 3
A60: 4 | B60: 偵煙式局限型探測器，二種 | C60: 只 | D60: 3
A61: 5 | B61: 導線管，電線用鋼管，無螺紋，EMT 19φx 1.2mm | C61: 式 | D61: 1
A62: 6 | B62: 產品，導線管，電線用鋼管，無螺紋，EMT 25φx 1.2mm | C62: 式 | D62: 1
A63: 7 | B63: 電線及電纜，HR，1.6mm(耐熱電線) | C63: 式 | D63: 1
A64: 8 | B64: 電線及電纜，Ø 2.0mm，FR 耐燃電線 850°C 15分鐘 | C64: 式 | D64: 1
A65: 9 | B65: 配管配線另件 | C65: 式 | D65: 1
A66: 10 | B66: 防火填塞(防火時效1小時) | C66: 式 | D66: 1
A67: 11 | B67: 搬運及雜費 | C67: 式 | D67: 1
A68: 12 | B68: 配管配線及設備安裝工資 | C68: 式 | D68: 1
B70: 消防設備工程總計
